BEGIN:VCALENDAR
VERSION:2.0
PRODID:-//Harwich Town Council - ECPv6.10.1.1//NONSGML v1.0//EN
CALSCALE:GREGORIAN
METHOD:PUBLISH
X-WR-CALNAME:Harwich Town Council
X-ORIGINAL-URL:https://www.harwichtowncouncil.gov.uk
X-WR-CALDESC:Events for Harwich Town Council
REFRESH-INTERVAL;VALUE=DURATION:PT1H
X-Robots-Tag:noindex
X-PUBLISHED-TTL:PT1H
BEGIN:VTIMEZONE
TZID:Europe/London
BEGIN:DAYLIGHT
TZOFFSETFROM:+0000
TZOFFSETTO:+0100
TZNAME:BST
DTSTART:20250330T010000
END:DAYLIGHT
BEGIN:STANDARD
TZOFFSETFROM:+0100
TZOFFSETTO:+0000
TZNAME:GMT
DTSTART:20251026T010000
END:STANDARD
BEGIN:DAYLIGHT
TZOFFSETFROM:+0000
TZOFFSETTO:+0100
TZNAME:BST
DTSTART:20260329T010000
END:DAYLIGHT
BEGIN:STANDARD
TZOFFSETFROM:+0100
TZOFFSETTO:+0000
TZNAME:GMT
DTSTART:20261025T010000
END:STANDARD
END:VTIMEZONE
BEGIN:VEVENT
DTSTART;TZID=Europe/London:20260521T110000
DTEND;TZID=Europe/London:20260521T120000
DTSTAMP:20260420T051430
CREATED:20250519T120227Z
LAST-MODIFIED:20250519T120227Z
UID:19679-1779361200-1779364800@www.harwichtowncouncil.gov.uk
SUMMARY:Annual Statutory and Mayor Making Meeting
DESCRIPTION:
URL:https://www.harwichtowncouncil.gov.uk/diary-event/annual-statutory-and-mayor-making-meeting/
LOCATION:The Guildhall\, 11 Church Street\, Harwich\, CO12 3DS\, United Kingdom
CATEGORIES:Meetings
END:VEVENT
BEGIN:VEVENT
DTSTART;TZID=Europe/London:20260428T190000
DTEND;TZID=Europe/London:20260428T210000
DTSTAMP:20260420T051430
CREATED:20250519T120135Z
LAST-MODIFIED:20250519T120135Z
UID:19676-1777402800-1777410000@www.harwichtowncouncil.gov.uk
SUMMARY:Annual Parish Meeting
DESCRIPTION:
URL:https://www.harwichtowncouncil.gov.uk/diary-event/annual-parish-meeting/
LOCATION:The Guildhall\, 11 Church Street\, Harwich\, CO12 3DS\, United Kingdom
CATEGORIES:Meetings
END:VEVENT
BEGIN:VEVENT
DTSTART;TZID=Europe/London:20260428T183000
DTEND;TZID=Europe/London:20260428T190000
DTSTAMP:20260420T051430
CREATED:20250519T114302Z
LAST-MODIFIED:20250519T114302Z
UID:19617-1777401000-1777402800@www.harwichtowncouncil.gov.uk
SUMMARY:Planning Committee Meeting
DESCRIPTION:
URL:https://www.harwichtowncouncil.gov.uk/diary-event/planning-committee-meeting-15/
LOCATION:The Guildhall\, 11 Church Street\, Harwich\, CO12 3DS\, United Kingdom
CATEGORIES:Meetings
END:VEVENT
BEGIN:VEVENT
DTSTART;TZID=Europe/London:20260407T190000
DTEND;TZID=Europe/London:20260407T210000
DTSTAMP:20260420T051430
CREATED:20250519T115221Z
LAST-MODIFIED:20250519T115221Z
UID:19646-1775588400-1775595600@www.harwichtowncouncil.gov.uk
SUMMARY:Full Council Meeting
DESCRIPTION:
URL:https://www.harwichtowncouncil.gov.uk/diary-event/full-council-meeting-7/
LOCATION:The Guildhall\, 11 Church Street\, Harwich\, CO12 3DS\, United Kingdom
CATEGORIES:Meetings
END:VEVENT
BEGIN:VEVENT
DTSTART;TZID=Europe/London:20260407T183000
DTEND;TZID=Europe/London:20260407T190000
DTSTAMP:20260420T051430
CREATED:20250519T114215Z
LAST-MODIFIED:20250519T114215Z
UID:19614-1775586600-1775588400@www.harwichtowncouncil.gov.uk
SUMMARY:Planning Committee Meeting
DESCRIPTION:
URL:https://www.harwichtowncouncil.gov.uk/diary-event/planning-committee-meeting-14/
LOCATION:The Guildhall\, 11 Church Street\, Harwich\, CO12 3DS\, United Kingdom
CATEGORIES:Meetings
END:VEVENT
BEGIN:VEVENT
DTSTART;TZID=Europe/London:20260326T190000
DTEND;TZID=Europe/London:20260326T210000
DTSTAMP:20260420T051430
CREATED:20250519T120055Z
LAST-MODIFIED:20250519T120055Z
UID:19673-1774551600-1774558800@www.harwichtowncouncil.gov.uk
SUMMARY:E&C Committee Meeting
DESCRIPTION:
URL:https://www.harwichtowncouncil.gov.uk/diary-event/ec-committee-meeting-4/
LOCATION:The Guildhall\, 11 Church Street\, Harwich\, CO12 3DS\, United Kingdom
CATEGORIES:Meetings
END:VEVENT
BEGIN:VEVENT
DTSTART;TZID=Europe/London:20260317T190000
DTEND;TZID=Europe/London:20260317T210000
DTSTAMP:20260420T051430
CREATED:20250519T115721Z
LAST-MODIFIED:20250519T115721Z
UID:19661-1773774000-1773781200@www.harwichtowncouncil.gov.uk
SUMMARY:F&GP Committee Meeting
DESCRIPTION:
URL:https://www.harwichtowncouncil.gov.uk/diary-event/fgp-committee-meeting-4/
LOCATION:The Guildhall\, 11 Church Street\, Harwich\, CO12 3DS\, United Kingdom
CATEGORIES:Meetings
END:VEVENT
BEGIN:VEVENT
DTSTART;TZID=Europe/London:20260317T183000
DTEND;TZID=Europe/London:20260317T190000
DTSTAMP:20260420T051430
CREATED:20250519T114033Z
LAST-MODIFIED:20250519T114033Z
UID:19611-1773772200-1773774000@www.harwichtowncouncil.gov.uk
SUMMARY:Planning Committee Meeting
DESCRIPTION:
URL:https://www.harwichtowncouncil.gov.uk/diary-event/planning-committee-meeting-13/
LOCATION:The Guildhall\, 11 Church Street\, Harwich\, CO12 3DS\, United Kingdom
CATEGORIES:Meetings
END:VEVENT
BEGIN:VEVENT
DTSTART;TZID=Europe/London:20260304T190000
DTEND;TZID=Europe/London:20260304T200000
DTSTAMP:20260420T051430
CREATED:20250519T113256Z
LAST-MODIFIED:20250519T113256Z
UID:19572-1772650800-1772654400@www.harwichtowncouncil.gov.uk
SUMMARY:Allotment Committee Meeting
DESCRIPTION:
URL:https://www.harwichtowncouncil.gov.uk/diary-event/allotment-committee-meeting-4/
LOCATION:The Guildhall\, 11 Church Street\, Harwich\, CO12 3DS\, United Kingdom
CATEGORIES:Meetings
END:VEVENT
BEGIN:VEVENT
DTSTART;TZID=Europe/London:20260224T190000
DTEND;TZID=Europe/London:20260224T210000
DTSTAMP:20260420T051430
CREATED:20250519T115147Z
LAST-MODIFIED:20250519T115147Z
UID:19643-1771959600-1771966800@www.harwichtowncouncil.gov.uk
SUMMARY:Full Council Meeting
DESCRIPTION:
URL:https://www.harwichtowncouncil.gov.uk/diary-event/full-council-meeting-6/
LOCATION:The Guildhall\, 11 Church Street\, Harwich\, CO12 3DS\, United Kingdom
CATEGORIES:Meetings
END:VEVENT
BEGIN:VEVENT
DTSTART;TZID=Europe/London:20260224T183000
DTEND;TZID=Europe/London:20260224T190000
DTSTAMP:20260420T051430
CREATED:20250519T114002Z
LAST-MODIFIED:20250519T114002Z
UID:19608-1771957800-1771959600@www.harwichtowncouncil.gov.uk
SUMMARY:Planning Committee Meeting
DESCRIPTION:
URL:https://www.harwichtowncouncil.gov.uk/diary-event/planning-committee-meeting-12/
LOCATION:The Guildhall\, 11 Church Street\, Harwich\, CO12 3DS\, United Kingdom
CATEGORIES:Meetings
END:VEVENT
BEGIN:VEVENT
DTSTART;TZID=Europe/London:20260203T183000
DTEND;TZID=Europe/London:20260203T190000
DTSTAMP:20260420T051430
CREATED:20250519T113932Z
LAST-MODIFIED:20250519T113932Z
UID:19605-1770143400-1770145200@www.harwichtowncouncil.gov.uk
SUMMARY:Planning Committee Meeting
DESCRIPTION:
URL:https://www.harwichtowncouncil.gov.uk/diary-event/planning-committee-meeting-11/
LOCATION:The Guildhall\, 11 Church Street\, Harwich\, CO12 3DS\, United Kingdom
CATEGORIES:Meetings
END:VEVENT
BEGIN:VEVENT
DTSTART;TZID=Europe/London:20260122T190000
DTEND;TZID=Europe/London:20260122T210000
DTSTAMP:20260420T051430
CREATED:20250519T120023Z
LAST-MODIFIED:20250519T120023Z
UID:19670-1769108400-1769115600@www.harwichtowncouncil.gov.uk
SUMMARY:E&C Committee Meeting
DESCRIPTION:
URL:https://www.harwichtowncouncil.gov.uk/diary-event/ec-committee-meeting-3/
LOCATION:The Guildhall\, 11 Church Street\, Harwich\, CO12 3DS\, United Kingdom
CATEGORIES:Meetings
END:VEVENT
BEGIN:VEVENT
DTSTART;TZID=Europe/London:20260113T190000
DTEND;TZID=Europe/London:20260113T210000
DTSTAMP:20260420T051430
CREATED:20250519T115112Z
LAST-MODIFIED:20251127T140450Z
UID:19640-1768330800-1768338000@www.harwichtowncouncil.gov.uk
SUMMARY:Full Council Meeting
DESCRIPTION:
URL:https://www.harwichtowncouncil.gov.uk/diary-event/full-council-meeting-5/
LOCATION:The Guildhall\, 11 Church Street\, Harwich\, CO12 3DS\, United Kingdom
CATEGORIES:Meetings
END:VEVENT
BEGIN:VEVENT
DTSTART;TZID=Europe/London:20260113T183000
DTEND;TZID=Europe/London:20260113T190000
DTSTAMP:20260420T051430
CREATED:20250519T113856Z
LAST-MODIFIED:20251127T140418Z
UID:19602-1768329000-1768330800@www.harwichtowncouncil.gov.uk
SUMMARY:Planning Committee Meeting
DESCRIPTION:
URL:https://www.harwichtowncouncil.gov.uk/diary-event/planning-committee-meeting-10/
LOCATION:The Guildhall\, 11 Church Street\, Harwich\, CO12 3DS\, United Kingdom
CATEGORIES:Meetings
END:VEVENT
BEGIN:VEVENT
DTSTART;TZID=Europe/London:20251216T183000
DTEND;TZID=Europe/London:20251216T190000
DTSTAMP:20260420T051430
CREATED:20250519T113827Z
LAST-MODIFIED:20250519T113827Z
UID:19599-1765909800-1765911600@www.harwichtowncouncil.gov.uk
SUMMARY:Planning Committee Meeting
DESCRIPTION:
URL:https://www.harwichtowncouncil.gov.uk/diary-event/planning-committee-meeting-9/
LOCATION:The Guildhall\, 11 Church Street\, Harwich\, CO12 3DS\, United Kingdom
CATEGORIES:Meetings
END:VEVENT
BEGIN:VEVENT
DTSTART;TZID=Europe/London:20251209T190000
DTEND;TZID=Europe/London:20251209T210000
DTSTAMP:20260420T051430
CREATED:20250519T115638Z
LAST-MODIFIED:20250519T115638Z
UID:19658-1765306800-1765314000@www.harwichtowncouncil.gov.uk
SUMMARY:F&GP Committee Meeting
DESCRIPTION:
URL:https://www.harwichtowncouncil.gov.uk/diary-event/fgp-committee-meeting-3/
LOCATION:The Guildhall\, 11 Church Street\, Harwich\, CO12 3DS\, United Kingdom
CATEGORIES:Meetings
END:VEVENT
BEGIN:VEVENT
DTSTART;TZID=Europe/London:20251129T153000
DTEND;TZID=Europe/London:20251129T203000
DTSTAMP:20260420T051430
CREATED:20251113T233606Z
LAST-MODIFIED:20251113T233928Z
UID:20151-1764430200-1764448200@www.harwichtowncouncil.gov.uk
SUMMARY:CHRISTMAS SWITCH ON\, DOVERCOURT TOWN
DESCRIPTION:Supported by Harwich Town Council
URL:https://www.harwichtowncouncil.gov.uk/diary-event/christmas-switch-on-25/
LOCATION:Dovercourt Town Centre\, CO12 3AJ
CATEGORIES:What's On
ATTACH;FMTTYPE=image/jpeg:https://www.harwichtowncouncil.gov.uk/wp-content/uploads/2025/11/Christmas-Event-25.jpg
END:VEVENT
BEGIN:VEVENT
DTSTART;TZID=Europe/London:20251126T190000
DTEND;TZID=Europe/London:20251126T210000
DTSTAMP:20260420T051430
CREATED:20250519T115042Z
LAST-MODIFIED:20250519T115042Z
UID:19637-1764183600-1764190800@www.harwichtowncouncil.gov.uk
SUMMARY:Full Council Meeting
DESCRIPTION:
URL:https://www.harwichtowncouncil.gov.uk/diary-event/full-council-meeting-4/
LOCATION:The Guildhall\, 11 Church Street\, Harwich\, CO12 3DS\, United Kingdom
CATEGORIES:Meetings
END:VEVENT
BEGIN:VEVENT
DTSTART;TZID=Europe/London:20251126T183000
DTEND;TZID=Europe/London:20251126T190000
DTSTAMP:20260420T051430
CREATED:20250519T113751Z
LAST-MODIFIED:20250519T113751Z
UID:19596-1764181800-1764183600@www.harwichtowncouncil.gov.uk
SUMMARY:Planning Committee Meeting
DESCRIPTION:
URL:https://www.harwichtowncouncil.gov.uk/diary-event/planning-committee-meeting-8/
LOCATION:The Guildhall\, 11 Church Street\, Harwich\, CO12 3DS\, United Kingdom
CATEGORIES:Meetings
END:VEVENT
BEGIN:VEVENT
DTSTART;TZID=Europe/London:20251104T183000
DTEND;TZID=Europe/London:20251104T190000
DTSTAMP:20260420T051430
CREATED:20250519T113714Z
LAST-MODIFIED:20250519T113714Z
UID:19593-1762281000-1762282800@www.harwichtowncouncil.gov.uk
SUMMARY:Planning Committee Meeting
DESCRIPTION:
URL:https://www.harwichtowncouncil.gov.uk/diary-event/planning-committee-meeting-7/
LOCATION:The Guildhall\, 11 Church Street\, Harwich\, CO12 3DS\, United Kingdom
CATEGORIES:Meetings
END:VEVENT
BEGIN:VEVENT
DTSTART;TZID=Europe/London:20251030T190000
DTEND;TZID=Europe/London:20251030T200000
DTSTAMP:20260420T051430
CREATED:20250519T113213Z
LAST-MODIFIED:20250519T113213Z
UID:19569-1761850800-1761854400@www.harwichtowncouncil.gov.uk
SUMMARY:Allotment Committee Meeting
DESCRIPTION:
URL:https://www.harwichtowncouncil.gov.uk/diary-event/allotment-committee-meeting-3/
LOCATION:The Guildhall\, 11 Church Street\, Harwich\, CO12 3DS\, United Kingdom
CATEGORIES:Meetings
END:VEVENT
BEGIN:VEVENT
DTSTART;TZID=Europe/London:20251020T193000
DTEND;TZID=Europe/London:20251020T230000
DTSTAMP:20260420T051430
CREATED:20251014T224628Z
LAST-MODIFIED:20251014T224910Z
UID:20079-1760988600-1761001200@www.harwichtowncouncil.gov.uk
SUMMARY:Harwich Mayoral Charities Quiz Night
DESCRIPTION:
URL:https://www.harwichtowncouncil.gov.uk/diary-event/mayoral-charities-quiz-night/
LOCATION:The Royal Oak\, Main Road\, Harwich\, Essex\, CO12 3PL\, United Kingdom
CATEGORIES:What's On
ATTACH;FMTTYPE=image/jpeg:https://www.harwichtowncouncil.gov.uk/wp-content/uploads/2025/10/2025-10-20-Mayoral-Consort-Quiz-Night-promo-scaled.jpg
ORGANIZER;CN="Cllr Dave Chable":MAILTO:cllr.dchable@harwichtowncouncil.gov.uk
END:VEVENT
END:VCALENDAR